{
 "version": 1.0,
 "tileBundlesPath": "./tile",
 "storageInfo": {
  "packetSize": 128,
  "storageFormat": "esriMapCacheStorageModeCompactV2"
 },
 "tileImageInfo": {
  "format": "PNG8",
  "compressionQuality": 0,
  "bandCount": 1,
  "lercError": 0
 },
 "tileInfo": {
  "spatialReference": {
   "wkid": 102100,
   "latestWkid": 3857
  },
  "origin": {
   "x": -2.0037508342787E7,
   "y": 2.0037508342787E7
  },
  "rows": 256,
  "cols": 256,
  "dpi": 96,
  "lods": [
   {
    "level": 0,
    "resolution": 156543.033928,
    "scale": 5.91657527591555E8
   },
   {
    "level": 1,
    "resolution": 78271.5169639999,
    "scale": 2.95828763795777E8
   },
   {
    "level": 2,
    "resolution": 39135.7584820001,
    "scale": 1.47914381897889E8
   },
   {
    "level": 3,
    "resolution": 19567.8792409999,
    "scale": 7.3957190948944E7
   },
   {
    "level": 4,
    "resolution": 9783.93962049996,
    "scale": 3.6978595474472E7
   },
   {
    "level": 5,
    "resolution": 4891.96981024998,
    "scale": 1.8489297737236E7
   },
   {
    "level": 6,
    "resolution": 2445.98490512499,
    "scale": 9244648.868618
   },
   {
    "level": 7,
    "resolution": 1222.99245256249,
    "scale": 4622324.434309
   },
   {
    "level": 8,
    "resolution": 611.49622628138,
    "scale": 2311162.217155
   },
   {
    "level": 9,
    "resolution": 305.748113140558,
    "scale": 1155581.108577
   },
   {
    "level": 10,
    "resolution": 152.874056570411,
    "scale": 577790.554289
   },
   {
    "level": 11,
    "resolution": 76.4370282850732,
    "scale": 288895.277144
   },
   {
    "level": 12,
    "resolution": 38.2185141425366,
    "scale": 144447.638572
   },
   {
    "level": 13,
    "resolution": 19.1092570712683,
    "scale": 72223.819286
   },
   {
    "level": 14,
    "resolution": 9.55462853563415,
    "scale": 36111.909643
   },
   {
    "level": 15,
    "resolution": 4.77731426794937,
    "scale": 18055.954822
   },
   {
    "level": 16,
    "resolution": 2.38865713397468,
    "scale": 9027.977411
   },
   {
    "level": 17,
    "resolution": 1.19432856685505,
    "scale": 4513.988705
   },
   {
    "level": 18,
    "resolution": 0.597164283559817,
    "scale": 2256.994353
   },
   {
    "level": 19,
    "resolution": 0.298582141647617,
    "scale": 1128.497176
   },
   {
    "level": 20,
    "resolution": 0.14929107082380833,
    "scale": 564.248588
   },
   {
    "level": 21,
    "resolution": 0.07464553541190416,
    "scale": 282.124294
   },
   {
    "level": 22,
    "resolution": 0.03732276770595208,
    "scale": 141.062147
   },
   {
    "level": 23,
    "resolution": 0.01866138385297604,
    "scale": 70.5310735
   }
  ],
  "format": "PNG8",
  "compressionQuality": 0,
  "bandCount": 1,
  "lercError": 0,
  "storageFormat": "esriMapCacheStorageModeCompactV2",
  "packetSize": 128
 },
 "name": "lightgray",
 "serviceDescription": "",
 "spatialReference": {
  "wkid": 102100,
  "latestWkid": 3857,
  "xyTolerance": 0.001,
  "zTolerance": 0.001,
  "mTolerance": 0.001,
  "falseX": -20037700,
  "falseY": -30241100,
  "xyUnits": 10000,
  "falseZ": -100000,
  "zUnits": 10000,
  "falseM": -100000,
  "mUnits": 10000
 },
 "units": "esriMeters",
 "minLOD": 10,
 "maxLOD": 20,
 "resampling": true,
 "layers": [
  {
   "id": 15,
   "name": "City County",
   "parentLayerId": -1,
   "defaultVisibility": true,
   "subLayerIds": null,
   "minScale": 0,
   "maxScale": 0,
   "type": "Feature Layer",
   "geometryType": "esriGeometryPolygon",
   "supportsDynamicLegends": true,
   "legend": [
    {
     "label": "BOISE",
     "imageData": "iVBORw0KGgoAAAANSUhEUgAAABQAAAAUCAYAAACNiR0NAAAACXBIWXMAAA7EAAAOxAGVKw4bAAAAQElEQVQ4jWN5xrBiJgMVAQs1DUMxUIohIp2BTPAMyZe0cyG1AAvVTIKCUQMpByxUMAMFjBo4osLwGZUK2sHvZQAU/AefIcPVygAAAABJRU5ErkJggg==",
     "contentType": "image/png",
     "groupId": "0",
     "height": 20,
     "width": 20,
     "values": [
      "BOISE"
     ],
     "layerId": 15,
     "layerName": "City County"
    },
    {
     "label": "EAGLE",
     "imageData": "iVBORw0KGgoAAAANSUhEUgAAABQAAAAUCAYAAACNiR0NAAAACXBIWXMAAA7EAAAOxAGVKw4bAAAAPklEQVQ4jWNh8F0xk4GKgIWahg1VAzdHpJNkgi9qHAxFL1MIWCg1AB2MGkg5YKGCGUPeQF/KykcWSjQPTQMBaZUGbYdqnhsAAAAASUVORK5CYII=",
     "contentType": "image/png",
     "groupId": "0",
     "height": 20,
     "width": 20,
     "values": [
      "EAGLE"
     ],
     "layerId": 15,
     "layerName": "City County"
    },
    {
     "label": "GARDEN CITY",
     "imageData": "iVBORw0KGgoAAAANSUhEUgAAABQAAAAUCAYAAACNiR0NAAAACXBIWXMAAA7EAAAOxAGVKw4bAAAAX0lEQVQ4jWNhoDJgGZoGtjCsmEmM5hqGiHSCBhJrGExtDZqhLOQahstQFgYqAxa6G1iD5B1igoSFGq4aWANbSIx5FoqcM/QNBCURUsOsBl/WI9VQogoHBhwKiQWDP1IAf88bUYtxPnIAAAAASUVORK5CYII=",
     "contentType": "image/png",
     "groupId": "0",
     "height": 20,
     "width": 20,
     "values": [
      "GARDEN CITY"
     ],
     "layerId": 15,
     "layerName": "City County"
    },
    {
     "label": "KUNA",
     "imageData": "iVBORw0KGgoAAAANSUhEUgAAABQAAAAUCAYAAACNiR0NAAAACXBIWXMAAA7EAAAOxAGVKw4bAAAAP0lEQVQ4jWP5/59hJgMVAQs1DRuiBjIyMqQTqxlb+LNQw1XIYNRAygELFcxAAaMG0iAM/1NYnLFQ5JxRA0EAAOFyCH9NL6G/AAAAAElFTkSuQmCC",
     "contentType": "image/png",
     "groupId": "0",
     "height": 20,
     "width": 20,
     "values": [
      "KUNA"
     ],
     "layerId": 15,
     "layerName": "City County"
    },
    {
     "label": "MERIDIAN",
     "imageData": "iVBORw0KGgoAAAANSUhEUgAAABQAAAAUCAYAAACNiR0NAAAACXBIWXMAAA7EAAAOxAGVKw4bAAAAOklEQVQ4jWNhOPp/JgMVAQs1DRuqBlozphOtG0v4D0UvUwhYKDUAHYwaODLD8ChlxRkLJZpHDWQAAQAfHQgLyemwhgAAAABJRU5ErkJggg==",
     "contentType": "image/png",
     "groupId": "0",
     "height": 20,
     "width": 20,
     "values": [
      "MERIDIAN"
     ],
     "layerId": 15,
     "layerName": "City County"
    },
    {
     "label": "STAR",
     "imageData": "iVBORw0KGgoAAAANSUhEUgAAABQAAAAUCAYAAACNiR0NAAAACXBIWXMAAA7EAAAOxAGVKw4bAAAAP0lEQVQ4jWN5xsAwk4GKgIWahg1RA6UYGNKJ1Ywt/Fmo4SpkMGog5YCFCmaggFEDaRCGzygszlgocs6ogSAAAIGlBU9LyQEXAAAAAElFTkSuQmCC",
     "contentType": "image/png",
     "groupId": "0",
     "height": 20,
     "width": 20,
     "values": [
      "STAR"
     ],
     "layerId": 15,
     "layerName": "City County"
    },
    {
     "label": "ADA COUNTY",
     "imageData": "iVBORw0KGgoAAAANSUhEUgAAABQAAAAUCAYAAACNiR0NAAAACXBIWXMAAA7EAAAOxAGVKw4bAAAAPElEQVQ4je3VoRUAMAgD0YrsejNl277WoYmDE8gvYhDgE0zv2CaBAf5gMi3YTn2itmA/BYzSgmM2JPgGLm86B+2Ubk3hAAAAAElFTkSuQmCC",
     "contentType": "image/png",
     "groupId": "0",
     "height": 20,
     "width": 20,
     "values": [
      "ADA COUNTY"
     ],
     "layerId": 15,
     "layerName": "City County"
    }
   ],
   "layerId": 15,
   "layerName": "City County",
   "serviceItemId": "5075b7896e304539afe6664d2abde160"
  },
  {
   "id": 0,
   "name": "Address",
   "parentLayerId": -1,
   "defaultVisibility": true,
   "subLayerIds": null,
   "minScale": 0,
   "maxScale": 0,
   "type": "Feature Layer",
   "geometryType": "esriGeometryPoint",
   "supportsDynamicLegends": true,
   "legend": [
    {
     "label": "",
     "imageData": "iVBORw0KGgoAAAANSUhEUgAAABQAAAAUCAYAAACNiR0NAAAACXBIWXMAAA7EAAAOxAGVKw4bAAAAKklEQVQ4je3MIQEAAAzDsIP613w83MFFQLgyFmr4Ii30KBxhoUfhCAtPexArAFF5acCuAAAAAElFTkSuQmCC",
     "contentType": "image/png",
     "groupId": "0",
     "height": 20,
     "width": 20,
     "layerId": 0,
     "layerName": "Address"
    }
   ],
   "layerId": 0,
   "layerName": "Address",
   "serviceItemId": "5075b7896e304539afe6664d2abde160"
  },
  {
   "id": 2,
   "name": "Railroad",
   "parentLayerId": -1,
   "defaultVisibility": true,
   "subLayerIds": null,
   "minScale": 0,
   "maxScale": 0,
   "type": "Feature Layer",
   "geometryType": "esriGeometryPolyline",
   "supportsDynamicLegends": true,
   "legend": [
    {
     "label": "",
     "imageData": "iVBORw0KGgoAAAANSUhEUgAAABQAAAAUCAYAAACNiR0NAAAACXBIWXMAAA7EAAAOxAGVKw4bAAAAR0lEQVQ4jWNhoDJgGTWQYsAyvAzctGnTfxDt5+fHSBUDiQEsDLQycBPUO8QAbGr9oMEANxBfuAydMPQjwhcsFDln1MChEYYANhERPNw7RegAAAAASUVORK5CYII=",
     "contentType": "image/png",
     "groupId": "0",
     "height": 20,
     "width": 20,
     "layerId": 2,
     "layerName": "Railroad"
    }
   ],
   "layerId": 2,
   "layerName": "Railroad",
   "serviceItemId": "5075b7896e304539afe6664d2abde160"
  },
  {
   "id": 4,
   "name": "Building",
   "parentLayerId": -1,
   "defaultVisibility": true,
   "subLayerIds": null,
   "minScale": 10000,
   "maxScale": 0,
   "type": "Feature Layer",
   "geometryType": "esriGeometryPolygon",
   "supportsDynamicLegends": true,
   "legend": [
    {
     "label": "",
     "imageData": "iVBORw0KGgoAAAANSUhEUgAAABQAAAAUCAYAAACNiR0NAAAACXBIWXMAAA7EAAAOxAGVKw4bAAAAPklEQVQ4je3QoREAMAxC0QoGYsZMyEbt9aqigytfIJ8AVbWXMdwhacEkPdAZAo7DnOgFnAeD0Qr4zYeSbOIB+wYIRsygX1UAAAAASUVORK5CYII=",
     "contentType": "image/png",
     "groupId": "0",
     "height": 20,
     "width": 20,
     "layerId": 4,
     "layerName": "Building"
    }
   ],
   "layerId": 4,
   "layerName": "Building",
   "serviceItemId": "5075b7896e304539afe6664d2abde160"
  },
  {
   "id": 3,
   "name": "Pavement Edge",
   "parentLayerId": -1,
   "defaultVisibility": true,
   "subLayerIds": null,
   "minScale": 0,
   "maxScale": 0,
   "type": "Feature Layer",
   "geometryType": "esriGeometryPolyline",
   "supportsDynamicLegends": true,
   "legend": [
    {
     "label": "Pavement",
     "imageData": "iVBORw0KGgoAAAANSUhEUgAAABQAAAAUCAYAAACNiR0NAAAACXBIWXMAAA7EAAAOxAGVKw4bAAAAOUlEQVQ4je3RsQkAMAwDQT9o/5WVOrVlCMQ/wCGQKpwWbKc+cfcraNsJDGBmIUAUTKaoVgsmev+UA+0YBFUSgWeeAAAAAElFTkSuQmCC",
     "contentType": "image/png",
     "groupId": "0",
     "height": 20,
     "width": 20,
     "values": [
      "Pavement"
     ],
     "layerId": 3,
     "layerName": "Pavement Edge"
    },
    {
     "label": "Pavement with curb",
     "imageData": "iVBORw0KGgoAAAANSUhEUgAAABQAAAAUCAYAAACNiR0NAAAACXBIWXMAAA7EAAAOxAGVKw4bAAAAOUlEQVQ4je3RsQkAMAwDQT9o/5WVOrVlCMQ/wCGQKpwWbKc+cfcraNsJDGBmIUAUTKaoVgsmev+UA+0YBFUSgWeeAAAAAElFTkSuQmCC",
     "contentType": "image/png",
     "groupId": "0",
     "height": 20,
     "width": 20,
     "values": [
      "Pavement with curb"
     ],
     "layerId": 3,
     "layerName": "Pavement Edge"
    },
    {
     "label": "Pavement",
     "imageData": "iVBORw0KGgoAAAANSUhEUgAAABQAAAAUCAYAAACNiR0NAAAACXBIWXMAAA7EAAAOxAGVKw4bAAAAKklEQVQ4je3MIQEAAAzDsIP613w83MFFQLgyFmr4Ii30KBxhoUfhCAtPexArAFF5acCuAAAAAElFTkSuQmCC",
     "contentType": "image/png",
     "groupId": "1",
     "height": 20,
     "width": 20,
     "layerId": 3,
     "layerName": "Pavement Edge"
    }
   ],
   "layerId": 3,
   "layerName": "Pavement Edge",
   "serviceItemId": "5075b7896e304539afe6664d2abde160"
  },
  {
   "id": 1,
   "name": "Road Centerline",
   "parentLayerId": -1,
   "defaultVisibility": true,
   "subLayerIds": null,
   "minScale": 0,
   "maxScale": 0,
   "type": "Feature Layer",
   "geometryType": "esriGeometryPolyline",
   "supportsDynamicLegends": true,
   "legend": [
    {
     "label": "Interstate",
     "imageData": "iVBORw0KGgoAAAANSUhEUgAAABQAAAAUCAYAAACNiR0NAAAACXBIWXMAAA7EAAAOxAGVKw4bAAAAKklEQVQ4je3MIQEAAAzDsIP613w83MFFQLgyFmr4Ii30KBxhoUfhCAtPexArAFF5acCuAAAAAElFTkSuQmCC",
     "contentType": "image/png",
     "groupId": "0",
     "height": 20,
     "width": 20,
     "values": [
      "Interstate"
     ],
     "layerId": 1,
     "layerName": "Road Centerline"
    },
    {
     "label": "Ramp",
     "imageData": "iVBORw0KGgoAAAANSUhEUgAAABQAAAAUCAYAAACNiR0NAAAACXBIWXMAAA7EAAAOxAGVKw4bAAAAKklEQVQ4je3MIQEAAAzDsIP613w83MFFQLgyFmr4Ii30KBxhoUfhCAtPexArAFF5acCuAAAAAElFTkSuQmCC",
     "contentType": "image/png",
     "groupId": "0",
     "height": 20,
     "width": 20,
     "values": [
      "Ramp"
     ],
     "layerId": 1,
     "layerName": "Road Centerline"
    },
    {
     "label": "Principal Arterial",
     "imageData": "iVBORw0KGgoAAAANSUhEUgAAABQAAAAUCAYAAACNiR0NAAAACXBIWXMAAA7EAAAOxAGVKw4bAAAAKklEQVQ4je3MIQEAAAzDsIP613w83MFFQLgyFmr4Ii30KBxhoUfhCAtPexArAFF5acCuAAAAAElFTkSuQmCC",
     "contentType": "image/png",
     "groupId": "0",
     "height": 20,
     "width": 20,
     "values": [
      "Principal Arterial"
     ],
     "layerId": 1,
     "layerName": "Road Centerline"
    },
    {
     "label": "Minor Arterial",
     "imageData": "iVBORw0KGgoAAAANSUhEUgAAABQAAAAUCAYAAACNiR0NAAAACXBIWXMAAA7EAAAOxAGVKw4bAAAAKklEQVQ4je3MIQEAAAzDsIP613w83MFFQLgyFmr4Ii30KBxhoUfhCAtPexArAFF5acCuAAAAAElFTkSuQmCC",
     "contentType": "image/png",
     "groupId": "0",
     "height": 20,
     "width": 20,
     "values": [
      "Minor Arterial"
     ],
     "layerId": 1,
     "layerName": "Road Centerline"
    },
    {
     "label": "Collector",
     "imageData": "iVBORw0KGgoAAAANSUhEUgAAABQAAAAUCAYAAACNiR0NAAAACXBIWXMAAA7EAAAOxAGVKw4bAAAAKklEQVQ4je3MIQEAAAzDsIP613w83MFFQLgyFmr4Ii30KBxhoUfhCAtPexArAFF5acCuAAAAAElFTkSuQmCC",
     "contentType": "image/png",
     "groupId": "0",
     "height": 20,
     "width": 20,
     "values": [
      "Collector"
     ],
     "layerId": 1,
     "layerName": "Road Centerline"
    },
    {
     "label": "Parks",
     "imageData": "iVBORw0KGgoAAAANSUhEUgAAABQAAAAUCAYAAACNiR0NAAAACXBIWXMAAA7EAAAOxAGVKw4bAAAAKklEQVQ4je3MIQEAAAzDsIP613w83MFFQLgyFmr4Ii30KBxhoUfhCAtPexArAFF5acCuAAAAAElFTkSuQmCC",
     "contentType": "image/png",
     "groupId": "0",
     "height": 20,
     "width": 20,
     "values": [
      "Parks"
     ],
     "layerId": 1,
     "layerName": "Road Centerline"
    },
    {
     "label": "Local",
     "imageData": "iVBORw0KGgoAAAANSUhEUgAAABQAAAAUCAYAAACNiR0NAAAACXBIWXMAAA7EAAAOxAGVKw4bAAAAKklEQVQ4je3MIQEAAAzDsIP613w83MFFQLgyFmr4Ii30KBxhoUfhCAtPexArAFF5acCuAAAAAElFTkSuQmCC",
     "contentType": "image/png",
     "groupId": "0",
     "height": 20,
     "width": 20,
     "values": [
      "Local"
     ],
     "layerId": 1,
     "layerName": "Road Centerline"
    }
   ],
   "layerId": 1,
   "layerName": "Road Centerline",
   "serviceItemId": "5075b7896e304539afe6664d2abde160"
  },
  {
   "id": 14,
   "name": "Bridge",
   "parentLayerId": -1,
   "defaultVisibility": true,
   "subLayerIds": null,
   "minScale": 100000,
   "maxScale": 0,
   "type": "Feature Layer",
   "geometryType": "esriGeometryPolygon",
   "supportsDynamicLegends": true,
   "legend": [
    {
     "label": "",
     "imageData": "iVBORw0KGgoAAAANSUhEUgAAABQAAAAUCAYAAACNiR0NAAAACXBIWXMAAA7EAAAOxAGVKw4bAAAAQUlEQVQ4je3UoREAQAwCwQg6Sv8lpCZefWbQIHMFrEAAkqxgSGICzkw5dbeCqXCgHXxCO9APAUM60G83/H8WA1M9a/MH5oLbvTYAAAAASUVORK5CYII=",
     "contentType": "image/png",
     "groupId": "0",
     "height": 20,
     "width": 20,
     "layerId": 14,
     "layerName": "Bridge"
    }
   ],
   "layerId": 14,
   "layerName": "Bridge",
   "serviceItemId": "5075b7896e304539afe6664d2abde160"
  },
  {
   "id": 17,
   "name": "Greenbelt",
   "parentLayerId": -1,
   "defaultVisibility": true,
   "subLayerIds": null,
   "minScale": 50000,
   "maxScale": 0,
   "type": "Feature Layer",
   "geometryType": "esriGeometryPolyline",
   "supportsDynamicLegends": true,
   "legend": [
    {
     "label": "",
     "imageData": "iVBORw0KGgoAAAANSUhEUgAAABQAAAAUCAYAAACNiR0NAAAACXBIWXMAAA7EAAAOxAGVKw4bAAAAQElEQVQ4je3SsQkAMAwDQQU0twovnmDIBvnO+crVgcAWnD/4nIeCVbUJLMkyhXVt8ZOTLHSy7qFZb0NmVNNI8ABE6hBR5ZBbBAAAAABJRU5ErkJggg==",
     "contentType": "image/png",
     "groupId": "0",
     "height": 20,
     "width": 20,
     "layerId": 17,
     "layerName": "Greenbelt"
    }
   ],
   "layerId": 17,
   "layerName": "Greenbelt",
   "serviceItemId": "5075b7896e304539afe6664d2abde160"
  },
  {
   "id": 12,
   "name": "Idaho Roads",
   "parentLayerId": -1,
   "defaultVisibility": true,
   "subLayerIds": null,
   "minScale": 0,
   "maxScale": 0,
   "type": "Feature Layer",
   "geometryType": "esriGeometryPolyline",
   "supportsDynamicLegends": true,
   "legend": [
    {
     "label": "",
     "imageData": "iVBORw0KGgoAAAANSUhEUgAAABQAAAAUCAYAAACNiR0NAAAACXBIWXMAAA7EAAAOxAGVKw4bAAAAO0lEQVQ4jWNhoDJgGTWQYsBCuRGoYKQa+PDhw//UMExeXp6RNi6Ul5dnpKqB1AQsVDWNYdRAaoDBHykA0gUEr+bVcgcAAAAASUVORK5CYII=",
     "contentType": "image/png",
     "groupId": "0",
     "height": 20,
     "width": 20,
     "values": [
      "S1100"
     ],
     "layerId": 12,
     "layerName": "Idaho Roads"
    },
    {
     "label": "",
     "imageData": "iVBORw0KGgoAAAANSUhEUgAAABQAAAAUCAYAAACNiR0NAAAACXBIWXMAAA7EAAAOxAGVKw4bAAAAPElEQVQ4je3QIQ4AMAxCUZZw1B6rd91URTWYJXyFegLCHAPKUSd2AU0fdvc1WKiqwxkwRRc0BdSjwfgMfJx5BX7JebmJAAAAAElFTkSuQmCC",
     "contentType": "image/png",
     "groupId": "0",
     "height": 20,
     "width": 20,
     "values": [
      "S1200",
      "S1400",
      "S1500",
      "S1630",
      "S1640",
      "S1710",
      "S1730",
      "S1740",
      "S1750",
      "S1780",
      "S1820"
     ],
     "layerId": 12,
     "layerName": "Idaho Roads"
    },
    {
     "label": "",
     "imageData": "iVBORw0KGgoAAAANSUhEUgAAABQAAAAUCAYAAACNiR0NAAAACXBIWXMAAA7EAAAOxAGVKw4bAAAAPElEQVQ4je3QIQ4AMAxCUZZw1B6rd91URTWYJXyFegLCHAPKUSd2AU0fdvc1WKiqwxkwRRc0BdSjwfgMfJx5BX7JebmJAAAAAElFTkSuQmCC",
     "contentType": "image/png",
     "groupId": "1",
     "height": 20,
     "width": 20,
     "layerId": 12,
     "layerName": "Idaho Roads"
    }
   ],
   "layerId": 12,
   "layerName": "Idaho Roads",
   "serviceItemId": "5075b7896e304539afe6664d2abde160"
  },
  {
   "id": 19,
   "name": "Parcel",
   "parentLayerId": -1,
   "defaultVisibility": true,
   "subLayerIds": null,
   "minScale": 24000,
   "maxScale": 0,
   "type": "Feature Layer",
   "geometryType": "esriGeometryPolygon",
   "supportsDynamicLegends": true,
   "legend": [
    {
     "label": "",
     "imageData": "iVBORw0KGgoAAAANSUhEUgAAABQAAAAUCAYAAACNiR0NAAAACXBIWXMAAA7EAAAOxAGVKw4bAAAAP0lEQVQ4jWN5+PDhfwYqAhYQIS8vz0gNwx4+fPgfbCA1AcuogRQDFsqNQAWjBlIOWKhgBgoYNXDEhOFDKlYDAAG6C5VvhsLsAAAAAElFTkSuQmCC",
     "contentType": "image/png",
     "groupId": "0",
     "height": 20,
     "width": 20,
     "layerId": 19,
     "layerName": "Parcel"
    }
   ],
   "layerId": 19,
   "layerName": "Parcel",
   "serviceItemId": "5075b7896e304539afe6664d2abde160"
  },
  {
   "id": 18,
   "name": "Hydrographic Feature",
   "parentLayerId": -1,
   "defaultVisibility": true,
   "subLayerIds": null,
   "minScale": 0,
   "maxScale": 0,
   "type": "Feature Layer",
   "geometryType": "esriGeometryPolygon",
   "supportsDynamicLegends": true,
   "legend": [
    {
     "label": "Bridge",
     "imageData": "iVBORw0KGgoAAAANSUhEUgAAABQAAAAUCAYAAACNiR0NAAAACXBIWXMAAA7EAAAOxAGVKw4bAAAAKklEQVQ4je3MIQEAAAzDsIP613w83MFFQLgyFmr4Ii30KBxhoUfhCAtPexArAFF5acCuAAAAAElFTkSuQmCC",
     "contentType": "image/png",
     "groupId": "0",
     "height": 20,
     "width": 20,
     "values": [
      "Bridge"
     ],
     "layerId": 18,
     "layerName": "Hydrographic Feature"
    },
    {
     "label": "Major",
     "imageData": "iVBORw0KGgoAAAANSUhEUgAAABQAAAAUCAYAAACNiR0NAAAACXBIWXMAAA7EAAAOxAGVKw4bAAAANUlEQVQ4je3MsREAMAgCQL1jVMZy16S2hk5+gMfMvDIh2SgzJJRBL7aEOhiOJaEOB0OS7Rw/WycFflsb+0sAAAAASUVORK5CYII=",
     "contentType": "image/png",
     "groupId": "0",
     "height": 20,
     "width": 20,
     "values": [
      "Major"
     ],
     "layerId": 18,
     "layerName": "Hydrographic Feature"
    },
    {
     "label": "Minor",
     "imageData": "iVBORw0KGgoAAAANSUhEUgAAABQAAAAUCAYAAACNiR0NAAAACXBIWXMAAA7EAAAOxAGVKw4bAAAANUlEQVQ4je3MsREAMAgCQL1jVMZy16S2hk5+gMfMvDIh2SgzJJRBL7aEOhiOJaEOB0OS7Rw/WycFflsb+0sAAAAASUVORK5CYII=",
     "contentType": "image/png",
     "groupId": "0",
     "height": 20,
     "width": 20,
     "values": [
      "Minor"
     ],
     "layerId": 18,
     "layerName": "Hydrographic Feature"
    }
   ],
   "layerId": 18,
   "layerName": "Hydrographic Feature",
   "serviceItemId": "5075b7896e304539afe6664d2abde160"
  },
  {
   "id": 7,
   "name": "Park",
   "parentLayerId": -1,
   "defaultVisibility": true,
   "subLayerIds": null,
   "minScale": 100000,
   "maxScale": 0,
   "type": "Feature Layer",
   "geometryType": "esriGeometryPolygon",
   "supportsDynamicLegends": true,
   "legend": [
    {
     "label": "",
     "imageData": "iVBORw0KGgoAAAANSUhEUgAAABQAAAAUCAYAAACNiR0NAAAACXBIWXMAAA7EAAAOxAGVKw4bAAAAsklEQVQ4ja2Uyw3EIAxE9+B+pnc6oaKsNlqiycQ/pMwFYoeHbQw2xjg+L8oiB4BznHOmdgDnfI0hUEFsX9AyQvx3iSJePoWC5jcghx7BFKwKU/ZUwdopV3VjtVJePk+Q/627MIOBoOb1V3balcwLe0eQ2j5SjorvbcqtdAN6DgVlPfqTe/UycPeuW7XAW8ynq9p+HCoZf3RvQ9ZaxqCdGkYPyHXKDOm8OpH9Sjnqscqm9i+qTqD+TEskiAAAAABJRU5ErkJggg==",
     "contentType": "image/png",
     "groupId": "0",
     "height": 20,
     "width": 20,
     "layerId": 7,
     "layerName": "Park"
    }
   ],
   "layerId": 7,
   "layerName": "Park",
   "serviceItemId": "5075b7896e304539afe6664d2abde160"
  },
  {
   "id": 16,
   "name": "Ada County",
   "parentLayerId": -1,
   "defaultVisibility": true,
   "subLayerIds": null,
   "minScale": 0,
   "maxScale": 0,
   "type": "Feature Layer",
   "geometryType": "esriGeometryPolygon",
   "supportsDynamicLegends": true,
   "legend": [
    {
     "label": "4",
     "imageData": "iVBORw0KGgoAAAANSUhEUgAAABQAAAAUCAYAAACNiR0NAAAACXBIWXMAAA7EAAAOxAGVKw4bAAAAM0lEQVQ4je3MoREAMAwDsYDfn3cNT9grDLZZrQGEpDNBJLOnoY/AsTT0ETiWhj4Cx3weXgYGAwD5T6riAAAAAElFTkSuQmCC",
     "contentType": "image/png",
     "groupId": "0",
     "height": 20,
     "width": 20,
     "values": [
      "4"
     ],
     "layerId": 16,
     "layerName": "Ada County"
    }
   ],
   "layerId": 16,
   "layerName": "Ada County",
   "serviceItemId": "5075b7896e304539afe6664d2abde160"
  },
  {
   "id": 9,
   "name": "County Boundary",
   "parentLayerId": -1,
   "defaultVisibility": true,
   "subLayerIds": null,
   "minScale": 0,
   "maxScale": 0,
   "type": "Feature Layer",
   "geometryType": "esriGeometryPolygon",
   "supportsDynamicLegends": true,
   "legend": [
    {
     "label": "Payette; Boise; Canyon; Elmore; Gem; Owyhee",
     "imageData": "iVBORw0KGgoAAAANSUhEUgAAABQAAAAUCAYAAACNiR0NAAAACXBIWXMAAA7EAAAOxAGVKw4bAAAAQ0lEQVQ4je3UMREAMAxC0Qz4iX8ZSIiSdmrvmGHMF/AGBjAzp4IhiQlIspy6W8FUWNAOPqEt6IeAIS3o9zd8fxYDU10u4QeAiuqNEgAAAABJRU5ErkJggg==",
     "contentType": "image/png",
     "groupId": "0",
     "height": 20,
     "width": 20,
     "values": [
      "Payette",
      "Boise",
      "Canyon",
      "Elmore",
      "Gem",
      "Owyhee"
     ],
     "layerId": 9,
     "layerName": "County Boundary"
    },
    {
     "label": "Ada County",
     "imageData": "iVBORw0KGgoAAAANSUhEUgAAABQAAAAUCAYAAACNiR0NAAAACXBIWXMAAA7EAAAOxAGVKw4bAAAAPklEQVQ4je3QoREAMAxC0QqmY6wMxXrt9aqigytfIJ8AVbWXMdwhacEkPdAZAo7DnOgFnAeD0Qr4zYeSbOIB+hwH+G/B41AAAAAASUVORK5CYII=",
     "contentType": "image/png",
     "groupId": "1",
     "height": 20,
     "width": 20,
     "layerId": 9,
     "layerName": "County Boundary"
    }
   ],
   "layerId": 9,
   "layerName": "County Boundary",
   "serviceItemId": "5075b7896e304539afe6664d2abde160"
  }
 ],
 "initialExtent": {
  "xmin": -1.2970863574029254E7,
  "ymin": 5328871.145721137,
  "xmax": -1.2910118899175854E7,
  "ymax": 5436019.455391061,
  "spatialReference": {
   "wkid": 102100,
   "latestWkid": 3857,
   "xyTolerance": 0.001,
   "zTolerance": 0.001,
   "mTolerance": 0.001,
   "falseX": -20037700,
   "falseY": -30241100,
   "xyUnits": 10000,
   "falseZ": -100000,
   "zUnits": 10000,
   "falseM": -100000,
   "mUnits": 10000
  }
 },
 "fullExtent": {
  "xmin": -1.2970863574029254E7,
  "ymin": 5328871.145721137,
  "xmax": -1.2910118899175854E7,
  "ymax": 5436019.455391061,
  "spatialReference": {
   "wkid": 102100,
   "latestWkid": 3857,
   "xyTolerance": 0.001,
   "zTolerance": 0.001,
   "mTolerance": 0.001,
   "falseX": -20037700,
   "falseY": -30241100,
   "xyUnits": 10000,
   "falseZ": -100000,
   "zUnits": 10000,
   "falseM": -100000,
   "mUnits": 10000
  }
 },
 "minScale": 0,
 "maxScale": 0,
 "exportTilesAllowed": false,
 "maxExportTilesCount": 0,
 "currentVersion": 11.2,
 "mapName": "lightgray",
 "singleFusedMapCache": true,
 "type": "MapServer",
 "supportedExtensions": "",
 "capabilities": "TilesOnly,Tilemap",
 "serviceItemId": "5075b7896e304539afe6664d2abde160"
}
